BEGIN:VCALENDAR
VERSION:2.0
PRODID:icalendar-ruby
CALSCALE:GREGORIAN
METHOD:PUBLISH
BEGIN:VEVENT
DTSTAMP:20260423T141442Z
UID:237-2716461@stjohnstillsonburg.ca
DTSTART:20260502T123000Z
DTEND:20260502T140000Z
CLASS:PUBLIC
CREATED:20260423T065011
DESCRIPTION:
LAST-MODIFIED:20260423T065011
LOCATION:Hall
SUMMARY:Fellowship Breakfast
URL;VALUE=URI:https://stjohnstillsonburg.ca/events/fellowship-breakfast/202
 6-05-02
END:VEVENT
END:VCALENDAR
