BEGIN:VCALENDAR
VERSION:2.0
PRODID:icalendar-ruby
CALSCALE:GREGORIAN
METHOD:PUBLISH
BEGIN:VEVENT
DTSTAMP:20260420T150316Z
UID:237-2686136@stjohnstillsonburg.ca
DTSTART:20260502T123000Z
DTEND:20260502T140000Z
CLASS:PUBLIC
CREATED:20260420T065519
DESCRIPTION:
LAST-MODIFIED:20260420T065519
LOCATION:Hall
SUMMARY:Friendship Breakfast
URL;VALUE=URI:https://stjohnstillsonburg.ca/events/friendship-breakfast/202
 6-05-02
END:VEVENT
END:VCALENDAR
